Workbook

Sheet chamber
B1: There is a User Manual available in which I explain how to use this spreadsheet | H1: USER MANUAL
B3: SP-30PATC
L4: PW
B5: Definitions | C5: description | F5: INPUT | G5: RESULT | H5: unit | L5: chamber
B7: fs | C7: open-air resonant frequency (driver) | F7: 47 | H7: [Hz] | K7: =2*SIN(PI()/10) -> 0.61803399
B8: Pel | C8: nom. electrical power handling | F8: 200 | H8: [W_el]
B9: SPL | C9: normalized sound pressure 1W 1m (efficiency) | F9: 99 | H9: [dB] | K9: =100*(1-K7) -> 38.196601
B10: Acone | C10: effective cone area | F10: 510 | H10: [cm²]
B11: Fcone | C11: force factor B*l | F11: 14.03 | H11: [T*m]
B12: Xlin | C12: linear excursion (+/-) | F12: 2 | H12: [mm]
B13: Qts | C13: total Q-factor | F13: 0.28
B14: Vas | C14: equivalent volume | F14: 107 | H14: [dm³] or Liter
B15: Cms | C15: suspension compliance | F15: 0.29 | H15: [mm/N]
B16: Gair | C16: air weight | F16: 1.3 | H16: [kg/m³]
B17: Cga | C17: compliance/stiffness of air weight @ 50% humidity | F17: 1.03
B19: f3 | C19: usable lowest freq. limit @ -3dB | G19: =F7*$K$7 -> 29.047597 | H19: Hz
B21: Vch | C21: volume change by excursion | G21: =(F10/10000)*F12/1000 -> 0.000102 | H21: [m³] | I21: =G21*1000000 -> 102 | J21: [mm³]
B22: Pind | C22: pressure change index | G22: =G21*F11 -> 0.00143106
B23: Pind_eff | C23: eff. pressure change index, due to compliance and B*l | G23: =1000*G22*F14/1000/F15 -> 0.52801179
B25: Vchamb | C25: chamber volume | G25: =(10*F13/PI())*(1+$K$7)*F14/1000/G23/10 -> 0.029223751 | H25: [m³] | I25: =G25*1000 -> 29.223751 | J25: liter
B26: Vchamb_eff | C26: eff. chamber volume (after wadding) | G26: =G25*0.9 -> 0.026301376 | H26: [m³] | I26: =G26*1000 -> 26.301376 | J26: liter
B28: Ah_ll | C28: area at horn throat (lossless) | G28: =G23*G26*F7/100/(F17*F16) -> 0.0048746043 | H28: [m²] | I28: =G28*1000000 -> 4874.6043 | J28: [mm²]
B29: Ah | C29: area at horn throat (incl. losses) | G29: =G28*1.055 -> 0.0051427075 | H29: [m²] | I29: =G29*1000000 -> 5142.7075 | J29: [mm²]
B31: fmax | C31: upper freq. limit of the pressure transformation of the horn (-3dB) | G31: =100*$K$7*340*'calc.'!O8/(2*PI()*G25) -> 600.80669 | H31: [Hz] | I31: =(LOG(G31/G19))/(LOG(2)) -> 4.3704101 | J31: octaves
B32: SPLmax_ac | C32: max. acoustic sound pressure @ 100Hz, k2 < 1% (horn) | G32: =((1/(0.0173*(100/G19)))^2)/6.18 -> 45.618369 | H32: [W_ac/dm²] | I32: =102+10*LOG(G32) -> 118.5914 | J32: [dB_SPL]
B33: SPLmax_el | C33: max. acoustic sound pressure @ 100Hz, k2 < 1% (driver) | G33: =10^((I33-I32)/10)*G32 -> 100.23745 | H33: [W_ac/dm²] | I33: =F9+10*LOG(F8) -> 122.0103 | J33: [dB_SPL]

Sheet calc.
J3: Definitions | K3: Description | N3: INPUT | O3: RESULT | P3: UNIT
H5: Universal formula for any type of horn | J5: Ax | K5: area of the horn at distance x | O5: =$O$8*((COSH($O$10*N12/1000))+$N$11*SINH($O$10*N12/1000))^2 -> 0.019261247 | P5: [m²]
J6: Wconst | K6: constant width of the horn guiding | N6: 350 | P6: [mm]
J7: Hx | K7: height of horn at distance x | O7: =1000000*O5/$N$6 -> 55.032135 | P7: [mm]
D8: The horn opening constant | J8: Ah | K8: area of the throat (x=0) | O8: =N6*N9/1000000 -> 0.00525 | P8: [m²]
J9: H0 | K9: height at throat | N9: 15 | P9: [mm]
J10: m | K10: horn opening constant (calc.) | O10: =4*PI()*N13/N14 -> 0.81681409
B11: fg [Hz] | C11: m | E11: DISTANCE | F11: AREA | G11: HEIGHT | H11: P-TRANSF. | J11: T | K11: horn type constant | N11: =chamber!K7 -> 0.61803399 | P11: PHI
B12: 5 | C12: =4*PI()*B12/$N$14 -> 0.18479957 | E12: x [mm] | F12: Ax [m²] | G12: Hx [mm] | J12: x | K12: distance from throat | N12: 1000 | P12: [mm]
B13: =B12+5 -> 10 | C13: =4*PI()*B13/$N$14 -> 0.36959914 | J13: fg | K13: lowest frequency limit of P-transf. | N13: 22.1 | P13: [Hz]
B14: =B13+5 -> 15 | C14: =4*PI()*B14/$N$14 -> 0.5543987 | E14: 0 | F14: =$O$8*((COSH($O$10*E14/1000))+$N$11*SINH($O$10*E14/1000))^2 -> 0.00525 | G14: =1000000*F14/$N$6 -> 15 | H14: =G14/$G$14 -> 1 | J14: c | K14: sonic speed | N14: 340 | P14: [m/s]
B15: =B14+1 -> 16 | C15: =4*PI()*B15/$N$14 -> 0.59135862 | E15: =E14+50 -> 50 | F15: =$O$8*((COSH($O$10*E15/1000))+$N$11*SINH($O$10*E15/1000))^2 -> 0.0055274331 | G15: =1000000*F15/$N$6 -> 15.792666 | H15: =G15/$G$14 -> 1.0528444
B16: =B15+1 -> 17 | C16: =4*PI()*B16/$N$14 -> 0.62831853 | E16: =E15+50 -> 100 | F16: =$O$8*((COSH($O$10*E16/1000))+$N$11*SINH($O$10*E16/1000))^2 -> 0.0058309348 | G16: =1000000*F16/$N$6 -> 16.659814 | H16: =G16/$G$14 -> 1.1106542
B17: =B16+1 -> 18 | C17: =4*PI()*B17/$N$14 -> 0.66527844 | E17: =E16+50 -> 150 | F17: =$O$8*((COSH($O$10*E17/1000))+$N$11*SINH($O$10*E17/1000))^2 -> 0.0061625313 | G17: =1000000*F17/$N$6 -> 17.607232 | H17: =G17/$G$14 -> 1.1738155 | N17: protection of this sheet:
B18: =B17+1 -> 19 | C18: =4*PI()*B18/$N$14 -> 0.70223836 | E18: =E17+50 -> 200 | F18: =$O$8*((COSH($O$10*E18/1000))+$N$11*SINH($O$10*E18/1000))^2 -> 0.0065244361 | G18: =1000000*F18/$N$6 -> 18.641246 | H18: =G18/$G$14 -> 1.2427497 | N18: PASSWORD | O18: horn
B19: =B18+1 -> 20 | C19: =4*PI()*B19/$N$14 -> 0.73919827 | E19: =E18+50 -> 250 | F19: =$O$8*((COSH($O$10*E19/1000))+$N$11*SINH($O$10*E19/1000))^2 -> 0.0069190652 | G19: =1000000*F19/$N$6 -> 19.768758 | H19: =G19/$G$14 -> 1.3179172
B20: =B19+1 -> 21 | C20: =4*PI()*B20/$N$14 -> 0.77615819 | E20: =E19+50 -> 300 | F20: =$O$8*((COSH($O$10*E20/1000))+$N$11*SINH($O$10*E20/1000))^2 -> 0.0073490529 | G20: =1000000*F20/$N$6 -> 20.997294 | H20: =G20/$G$14 -> 1.3998196 | N20: Results from <chamber>
B21: =B20+0.1 -> 21.1 | C21: =4*PI()*B21/$N$14 -> 0.77985418 | E21: =E20+50 -> 350 | F21: =$O$8*((COSH($O$10*E21/1000))+$N$11*SINH($O$10*E21/1000))^2 -> 0.0078172697 | G21: =1000000*F21/$N$6 -> 22.335056 | H21: =G21/$G$14 -> 1.4890037
B22: =B21+0.1 -> 21.2 | C22: =4*PI()*B22/$N$14 -> 0.78355017 | E22: =E21+50 -> 400 | F22: =$O$8*((COSH($O$10*E22/1000))+$N$11*SINH($O$10*E22/1000))^2 -> 0.0083268411 | G22: =1000000*F22/$N$6 -> 23.790975 | H22: =G22/$G$14 -> 1.586065 | N22: f3 | O22: =chamber!G19 -> 29.047597 | P22: [Hz]
B23: =B22+0.1 -> 21.3 | C23: =4*PI()*B23/$N$14 -> 0.78724616 | E23: =E22+50 -> 450 | F23: =$O$8*((COSH($O$10*E23/1000))+$N$11*SINH($O$10*E23/1000))^2 -> 0.0088811688 | G23: =1000000*F23/$N$6 -> 25.374768 | H23: =G23/$G$14 -> 1.6916512 | N23: Ah | O23: =chamber!G29 -> 0.0051427075 | P23: [m²]
B24: =B23+0.1 -> 21.4 | C24: =4*PI()*B24/$N$14 -> 0.79094215 | E24: =E23+50 -> 500 | F24: =$O$8*((COSH($O$10*E24/1000))+$N$11*SINH($O$10*E24/1000))^2 -> 0.0094839533 | G24: =1000000*F24/$N$6 -> 27.097009 | H24: =G24/$G$14 -> 1.8064673
B25: =B24+0.1 -> 21.5 | C25: =4*PI()*B25/$N$14 -> 0.79463814 | E25: =E24+50 -> 550 | F25: =$O$8*((COSH($O$10*E25/1000))+$N$11*SINH($O$10*E25/1000))^2 -> 0.010139219 | G25: =1000000*F25/$N$6 -> 28.969196 | H25: =G25/$G$14 -> 1.9312797
B26: =B25+0.1 -> 21.6 | C26: =4*PI()*B26/$N$14 -> 0.79833413 | E26: =E25+50 -> 600 | F26: =$O$8*((COSH($O$10*E26/1000))+$N$11*SINH($O$10*E26/1000))^2 -> 0.010851339 | G26: =1000000*F26/$N$6 -> 31.003825 | H26: =G26/$G$14 -> 2.0669217 | N26: Constant "m" should be close to this value!!!
B27: =B26+0.1 -> 21.7 | C27: =4*PI()*B27/$N$14 -> 0.80203012 | E27: =E26+50 -> 650 | F27: =$O$8*((COSH($O$10*E27/1000))+$N$11*SINH($O$10*E27/1000))^2 -> 0.011625068 | G27: =1000000*F27/$N$6 -> 33.214479 | H27: =G27/$G$14 -> 2.2142986
B28: =B27+0.1 -> 21.8 | C28: =4*PI()*B28/$N$14 -> 0.80572612 | E28: =E27+50 -> 700 | F28: =$O$8*((COSH($O$10*E28/1000))+$N$11*SINH($O$10*E28/1000))^2 -> 0.01246557 | G28: =1000000*F28/$N$6 -> 35.615915 | H28: =G28/$G$14 -> 2.3743944
B29: =B28+0.1 -> 21.9 | C29: =4*PI()*B29/$N$14 -> 0.80942211 | E29: =E28+50 -> 750 | F29: =$O$8*((COSH($O$10*E29/1000))+$N$11*SINH($O$10*E29/1000))^2 -> 0.013378458 | G29: =1000000*F29/$N$6 -> 38.224165 | H29: =G29/$G$14 -> 2.5482777
B30: =B29+0.1 -> 22 | C30: =4*PI()*B30/$N$14 -> 0.8131181 | E30: =E29+50 -> 800 | F30: =$O$8*((COSH($O$10*E30/1000))+$N$11*SINH($O$10*E30/1000))^2 -> 0.014369824 | G30: =1000000*F30/$N$6 -> 41.05664 | H30: =G30/$G$14 -> 2.7371093 | J30: xmax | K30: Max. length of horn-guide @ P-TRANSFORMATION factor (resulting in max. distance X) | N30: =chamber!K9 -> 38.196601 | O30: lossless
B31: =B30+0.1 -> 22.1 | C31: =4*PI()*B31/$N$14 -> 0.81681409 | E31: =E30+50 -> 850 | F31: =$O$8*((COSH($O$10*E31/1000))+$N$11*SINH($O$10*E31/1000))^2 -> 0.015446287 | G31: =1000000*F31/$N$6 -> 44.132248 | H31: =G31/$G$14 -> 2.9421499
B32: =B31+0.1 -> 22.2 | C32: =4*PI()*B32/$N$14 -> 0.82051008 | E32: =E31+50 -> 900 | F32: =$O$8*((COSH($O$10*E32/1000))+$N$11*SINH($O$10*E32/1000))^2 -> 0.016615032 | G32: =1000000*F32/$N$6 -> 47.47152 | H32: =G32/$G$14 -> 3.164768 | N32: =N30*O10 -> 31.199522 | O32: incl. losses from turbulence
B33: =B32+0.1 -> 22.3 | C33: =4*PI()*B33/$N$14 -> 0.82420607 | E33: =E32+50 -> 950 | F33: =$O$8*((COSH($O$10*E33/1000))+$N$11*SINH($O$10*E33/1000))^2 -> 0.017883862 | G33: =1000000*F33/$N$6 -> 51.096749 | H33: =G33/$G$14 -> 3.4064499
B34: =B33+0.1 -> 22.4 | C34: =4*PI()*B34/$N$14 -> 0.82790206 | E34: =E33+50 -> 1000 | F34: =$O$8*((COSH($O$10*E34/1000))+$N$11*SINH($O$10*E34/1000))^2 -> 0.019261247 | G34: =1000000*F34/$N$6 -> 55.032135 | H34: =G34/$G$14 -> 3.668809
B35: =B34+0.1 -> 22.5 | C35: =4*PI()*B35/$N$14 -> 0.83159806 | E35: =E34+50 -> 1050 | F35: =$O$8*((COSH($O$10*E35/1000))+$N$11*SINH($O$10*E35/1000))^2 -> 0.020756382 | G35: =1000000*F35/$N$6 -> 59.303948 | H35: =G35/$G$14 -> 3.9535965
B36: =B35+0.1 -> 22.6 | C36: =4*PI()*B36/$N$14 -> 0.83529405 | E36: =E35+50 -> 1100 | F36: =$O$8*((COSH($O$10*E36/1000))+$N$11*SINH($O$10*E36/1000))^2 -> 0.022379247 | G36: =1000000*F36/$N$6 -> 63.940705 | H36: =G36/$G$14 -> 4.2627137
B37: =B36+0.1 -> 22.7 | C37: =4*PI()*B37/$N$14 -> 0.83899004 | E37: =E36+50 -> 1150 | F37: =$O$8*((COSH($O$10*E37/1000))+$N$11*SINH($O$10*E37/1000))^2 -> 0.024140676 | G37: =1000000*F37/$N$6 -> 68.973359 | H37: =G37/$G$14 -> 4.598224
B38: =B37+0.1 -> 22.8 | C38: =4*PI()*B38/$N$14 -> 0.84268603 | E38: =E37+50 -> 1200 | F38: =$O$8*((COSH($O$10*E38/1000))+$N$11*SINH($O$10*E38/1000))^2 -> 0.026052427 | G38: =1000000*F38/$N$6 -> 74.435507 | H38: =G38/$G$14 -> 4.9623671
B39: =B38+0.1 -> 22.9 | C39: =4*PI()*B39/$N$14 -> 0.84638202 | E39: =E38+50 -> 1250 | F39: =$O$8*((COSH($O$10*E39/1000))+$N$11*SINH($O$10*E39/1000))^2 -> 0.028127264 | G39: =1000000*F39/$N$6 -> 80.36361 | H39: =G39/$G$14 -> 5.357574
B40: =B39+1 -> 23.9 | C40: =4*PI()*B40/$N$14 -> 0.88334193 | E40: =E39+50 -> 1300 | F40: =$O$8*((COSH($O$10*E40/1000))+$N$11*SINH($O$10*E40/1000))^2 -> 0.030379035 | G40: =1000000*F40/$N$6 -> 86.797243 | H40: =G40/$G$14 -> 5.7864829
B41: =B40+0.1 -> 24 | C41: =4*PI()*B41/$N$14 -> 0.88703793 | E41: =E40+50 -> 1350 | F41: =$O$8*((COSH($O$10*E41/1000))+$N$11*SINH($O$10*E41/1000))^2 -> 0.032822774 | G41: =1000000*F41/$N$6 -> 93.779354 | H41: =G41/$G$14 -> 6.2519569
B42: =B41+1 -> 25 | C42: =4*PI()*B42/$N$14 -> 0.92399784 | E42: =E41+50 -> 1400 | F42: =$O$8*((COSH($O$10*E42/1000))+$N$11*SINH($O$10*E42/1000))^2 -> 0.035474793 | G42: =1000000*F42/$N$6 -> 101.35655 | H42: =G42/$G$14 -> 6.7571034
B43: =B42+1 -> 26 | C43: =4*PI()*B43/$N$14 -> 0.96095775 | E43: =E42+50 -> 1450 | F43: =$O$8*((COSH($O$10*E43/1000))+$N$11*SINH($O$10*E43/1000))^2 -> 0.038352796 | G43: =1000000*F43/$N$6 -> 109.57942 | H43: =G43/$G$14 -> 7.3052945
B44: =B43+1 -> 27 | C44: =4*PI()*B44/$N$14 -> 0.99791767 | E44: =E43+50 -> 1500 | F44: =$O$8*((COSH($O$10*E44/1000))+$N$11*SINH($O$10*E44/1000))^2 -> 0.041475996 | G44: =1000000*F44/$N$6 -> 118.50285 | H44: =G44/$G$14 -> 7.9001897
B45: =B44+1 -> 28 | C45: =4*PI()*B45/$N$14 -> 1.0348776 | E45: =E44+50 -> 1550 | F45: =$O$8*((COSH($O$10*E45/1000))+$N$11*SINH($O$10*E45/1000))^2 -> 0.044865241 | G45: =1000000*F45/$N$6 -> 128.1864 | H45: =G45/$G$14 -> 8.5457603
B46: =B45+1 -> 29 | C46: =4*PI()*B46/$N$14 -> 1.0718375 | E46: =E45+50 -> 1600 | F46: =$O$8*((COSH($O$10*E46/1000))+$N$11*SINH($O$10*E46/1000))^2 -> 0.048543158 | G46: =1000000*F46/$N$6 -> 138.69474 | H46: =G46/$G$14 -> 9.2463157
B47: =B46+1 -> 30 | C47: =4*PI()*B47/$N$14 -> 1.1087974 | E47: =E46+50 -> 1650 | F47: =$O$8*((COSH($O$10*E47/1000))+$N$11*SINH($O$10*E47/1000))^2 -> 0.052534296 | G47: =1000000*F47/$N$6 -> 150.09799 | H47: =G47/$G$14 -> 10.006533
B48: =B47+1 -> 31 | C48: =4*PI()*B48/$N$14 -> 1.1457573 | E48: =E47+50 -> 1700 | F48: =$O$8*((COSH($O$10*E48/1000))+$N$11*SINH($O$10*E48/1000))^2 -> 0.056865301 | G48: =1000000*F48/$N$6 -> 162.47229 | H48: =G48/$G$14 -> 10.831486
E49: =E48+50 -> 1750 | F49: =$O$8*((COSH($O$10*E49/1000))+$N$11*SINH($O$10*E49/1000))^2 -> 0.061565084 | G49: =1000000*F49/$N$6 -> 175.90024 | H49: =G49/$G$14 -> 11.726683
E50: =E49+50 -> 1800 | F50: =$O$8*((COSH($O$10*E50/1000))+$N$11*SINH($O$10*E50/1000))^2 -> 0.066665019 | G50: =1000000*F50/$N$6 -> 190.47148 | H50: =G50/$G$14 -> 12.698099
E51: =E50+50 -> 1850 | F51: =$O$8*((COSH($O$10*E51/1000))+$N$11*SINH($O$10*E51/1000))^2 -> 0.072199149 | G51: =1000000*F51/$N$6 -> 206.28328 | H51: =G51/$G$14 -> 13.752219
E52: =E51+50 -> 1900 | F52: =$O$8*((COSH($O$10*E52/1000))+$N$11*SINH($O$10*E52/1000))^2 -> 0.07820442 | G52: =1000000*F52/$N$6 -> 223.4412 | H52: =G52/$G$14 -> 14.89608
E53: =E52+50 -> 1950 | F53: =$O$8*((COSH($O$10*E53/1000))+$N$11*SINH($O$10*E53/1000))^2 -> 0.08472092 | G53: =1000000*F53/$N$6 -> 242.05977 | H53: =G53/$G$14 -> 16.137318
E54: =E53+50 -> 2000 | F54: =$O$8*((COSH($O$10*E54/1000))+$N$11*SINH($O$10*E54/1000))^2 -> 0.091792149 | G54: =1000000*F54/$N$6 -> 262.26328 | H54: =G54/$G$14 -> 17.484219
E55: =E54+50 -> 2050 | F55: =$O$8*((COSH($O$10*E55/1000))+$N$11*SINH($O$10*E55/1000))^2 -> 0.099465312 | G55: =1000000*F55/$N$6 -> 284.18661 | H55: =G55/$G$14 -> 18.945774
E56: =E55+50 -> 2100 | F56: =$O$8*((COSH($O$10*E56/1000))+$N$11*SINH($O$10*E56/1000))^2 -> 0.10779163 | G56: =1000000*F56/$N$6 -> 307.97609 | H56: =G56/$G$14 -> 20.531739
E57: =E56+50 -> 2150 | F57: =$O$8*((COSH($O$10*E57/1000))+$N$11*SINH($O$10*E57/1000))^2 -> 0.11682669 | G57: =1000000*F57/$N$6 -> 333.79055 | H57: =G57/$G$14 -> 22.252703
E58: =E57+50 -> 2200 | F58: =$O$8*((COSH($O$10*E58/1000))+$N$11*SINH($O$10*E58/1000))^2 -> 0.12663081 | G58: =1000000*F58/$N$6 -> 361.8023 | H58: =G58/$G$14 -> 24.120154
E59: =E58+50 -> 2250 | F59: =$O$8*((COSH($O$10*E59/1000))+$N$11*SINH($O$10*E59/1000))^2 -> 0.13726942 | G59: =1000000*F59/$N$6 -> 392.19835 | H59: =G59/$G$14 -> 26.146557
E60: =E59+50 -> 2300 | F60: =$O$8*((COSH($O$10*E60/1000))+$N$11*SINH($O$10*E60/1000))^2 -> 0.14881356 | G60: =1000000*F60/$N$6 -> 425.1816 | H60: =G60/$G$14 -> 28.34544
... E62: =E61+50 -> 2400 | F62: =$O$8*((COSH($O$10*E62/1000))+$N$11*SINH($O$10*E62/1000))^2 -> 0.17493321 | G62: =1000000*F62/$N$6 -> 499.80916 | H62: =G62/$G$14 -> 33.320611

Sheet diagram
B2: Horn guiding at a constant width of | F2: ='calc.'!N6 -> 350 | G2: mm | M2: protection of this sheet:
M3: PASSWORD | N3: horn
